BEGIN:VCALENDAR
VERSION:2.0
PRODID:-//P.A. Croce Bianca Albenga - ECPv6.13.2.1//NONSGML v1.0//EN
CALSCALE:GREGORIAN
METHOD:PUBLISH
X-WR-CALNAME:P.A. Croce Bianca Albenga
X-ORIGINAL-URL:https://crocebiancaalbenga.it
X-WR-CALDESC:Eventi per P.A. Croce Bianca Albenga
REFRESH-INTERVAL;VALUE=DURATION:PT1H
X-Robots-Tag:noindex
X-PUBLISHED-TTL:PT1H
BEGIN:VTIMEZONE
TZID:Europe/Rome
BEGIN:DAYLIGHT
TZOFFSETFROM:+0100
TZOFFSETTO:+0200
TZNAME:CEST
DTSTART:20180325T010000
END:DAYLIGHT
BEGIN:STANDARD
TZOFFSETFROM:+0200
TZOFFSETTO:+0100
TZNAME:CET
DTSTART:20181028T010000
END:STANDARD
END:VTIMEZONE
BEGIN:VEVENT
DTSTART;TZID=Europe/Rome:20180603T120000
DTEND;TZID=Europe/Rome:20180603T170000
DTSTAMP:20260422T171113
CREATED:20180514T164833Z
LAST-MODIFIED:20180514T164833Z
UID:1132-1528027200-1528045200@crocebiancaalbenga.it
SUMMARY:Pranzo di Beneficienza
DESCRIPTION:L’associazione Arma Aeronautica se. di Albenga con il patrocinio del Comune di Albenga\, in collaborazione con il 108° Club Frecce Tricolori “Capitano Pilota Valentino Iansa” la Comunità Parrocchiale di San Giorgio di Albenga e l’Associazione Sportivo Cultulare RBR organizzano per il 3 giugno alle ore 12.00 un PRANZO DI BENEFICENZA a favore della Croce Bianca di Albenga presso le aeree espositive del San Giorgio Sport Show
URL:https://crocebiancaalbenga.it/event/pranzo-di-beneficienza/
LOCATION:San Giorgio\, Via Don Pelle\, Albenga\, Savona\, 17031\, Italia
END:VEVENT
END:VCALENDAR