BEGIN:VCALENDAR
VERSION:2.0
PRODID:-//P.A. Croce Bianca Albenga - ECPv6.13.2.1//NONSGML v1.0//EN
CALSCALE:GREGORIAN
METHOD:PUBLISH
X-ORIGINAL-URL:https://crocebiancaalbenga.it
X-WR-CALDESC:Eventi per P.A. Croce Bianca Albenga
REFRESH-INTERVAL;VALUE=DURATION:PT1H
X-Robots-Tag:noindex
X-PUBLISHED-TTL:PT1H
BEGIN:VTIMEZONE
TZID:Europe/Rome
BEGIN:DAYLIGHT
TZOFFSETFROM:+0100
TZOFFSETTO:+0200
TZNAME:CEST
DTSTART:20180325T010000
END:DAYLIGHT
BEGIN:STANDARD
TZOFFSETFROM:+0200
TZOFFSETTO:+0100
TZNAME:CET
DTSTART:20181028T010000
END:STANDARD
END:VTIMEZONE
BEGIN:VEVENT
DTSTART;TZID=Europe/Rome:20180929T100000
DTEND;TZID=Europe/Rome:20180929T180000
DTSTAMP:20260422T130710
CREATED:20180926T151239Z
LAST-MODIFIED:20180926T151239Z
UID:1181-1538215200-1538244000@crocebiancaalbenga.it
SUMMARY:Festa del Volontariato
DESCRIPTION:
URL:https://crocebiancaalbenga.it/event/festa-del-volontariato/
LOCATION:--
END:VEVENT
END:VCALENDAR