BEGIN:VCALENDAR
VERSION:2.0
PRODID:-//P.A. Croce Bianca Albenga - ECPv6.13.2.1//NONSGML v1.0//EN
CALSCALE:GREGORIAN
METHOD:PUBLISH
X-ORIGINAL-URL:https://crocebiancaalbenga.it
X-WR-CALDESC:Eventi per P.A. Croce Bianca Albenga
REFRESH-INTERVAL;VALUE=DURATION:PT1H
X-Robots-Tag:noindex
X-PUBLISHED-TTL:PT1H
BEGIN:VTIMEZONE
TZID:Europe/Rome
BEGIN:DAYLIGHT
TZOFFSETFROM:+0100
TZOFFSETTO:+0200
TZNAME:CEST
DTSTART:20180325T010000
END:DAYLIGHT
BEGIN:STANDARD
TZOFFSETFROM:+0200
TZOFFSETTO:+0100
TZNAME:CET
DTSTART:20181028T010000
END:STANDARD
END:VTIMEZONE
BEGIN:VEVENT
DTSTART;TZID=Europe/Rome:20181110T150000
DTEND;TZID=Europe/Rome:20181111T200000
DTSTAMP:20260422T102651
CREATED:20181106T090231Z
LAST-MODIFIED:20181106T090231Z
UID:1219-1541862000-1541966400@crocebiancaalbenga.it
SUMMARY:Festa di San Martino
DESCRIPTION:Sabato 10 dalle ore 15.00 alle 20.00 e domenica 11 dalle 12.00 alle 20.00\, in piazza IV novembre\, degustazione di prodotti stagione (caldarroste\, polenta\, pan fritto e altro).  Il ricavato della manifestazione servirà per l’acquisto di materiale sanitario della P.A. Croce Bianca Albenga.
URL:https://crocebiancaalbenga.it/event/festa-di-san-martino/
LOCATION:Piazza IV Novembre\, Piazza IV novembre\, Albenga\, --\, 17031\, Italia
ORGANIZER;CN="Croce Bianca Albenga OdV":MAILTO:crocebiancaalbenga@gmail.com
END:VEVENT
END:VCALENDAR