BEGIN:VCALENDAR
VERSION:2.0
PRODID:-//P.A. Croce Bianca Albenga - ECPv6.13.2.1//NONSGML v1.0//EN
CALSCALE:GREGORIAN
METHOD:PUBLISH
X-ORIGINAL-URL:https://crocebiancaalbenga.it
X-WR-CALDESC:Eventi per P.A. Croce Bianca Albenga
REFRESH-INTERVAL;VALUE=DURATION:PT1H
X-Robots-Tag:noindex
X-PUBLISHED-TTL:PT1H
BEGIN:VTIMEZONE
TZID:Europe/Rome
BEGIN:DAYLIGHT
TZOFFSETFROM:+0100
TZOFFSETTO:+0200
TZNAME:CEST
DTSTART:20190331T010000
END:DAYLIGHT
BEGIN:STANDARD
TZOFFSETFROM:+0200
TZOFFSETTO:+0100
TZNAME:CET
DTSTART:20191027T010000
END:STANDARD
END:VTIMEZONE
BEGIN:VEVENT
DTSTART;TZID=Europe/Rome:20190126T080000
DTEND;TZID=Europe/Rome:20190126T170000
DTSTAMP:20260422T080252
CREATED:20190123T212459Z
LAST-MODIFIED:20190123T212459Z
UID:1251-1548489600-1548522000@crocebiancaalbenga.it
SUMMARY:26 gennaio: Arance della Salute 2019 per la ricerca
DESCRIPTION:Sabato 26 gennaio i volontari della Croce Bianca distribuiranno le Arance della Salute 2019 per la Ricerca\, raccogliendo fondi a favore dell’AIRC.\nColoro che verseranno un’offerta di almeno 9\,00 € riceveranno una reticella di 2.5Kg.
URL:https://crocebiancaalbenga.it/event/26-gennaio-arance-della-salute-2019-per-la-ricerca/
LOCATION:P.A. Croce Bianca Albenga\, Piazza Petrarca 17\, Albenga\, SV\, 17031\, Italia
END:VEVENT
END:VCALENDAR