BEGIN:VCALENDAR
VERSION:2.0
PRODID:-//P.A. Croce Bianca Albenga - ECPv6.13.2.1//NONSGML v1.0//EN
CALSCALE:GREGORIAN
METHOD:PUBLISH
X-WR-CALNAME:P.A. Croce Bianca Albenga
X-ORIGINAL-URL:https://crocebiancaalbenga.it
X-WR-CALDESC:Eventi per P.A. Croce Bianca Albenga
REFRESH-INTERVAL;VALUE=DURATION:PT1H
X-Robots-Tag:noindex
X-PUBLISHED-TTL:PT1H
BEGIN:VTIMEZONE
TZID:Europe/Rome
BEGIN:DAYLIGHT
TZOFFSETFROM:+0100
TZOFFSETTO:+0200
TZNAME:CEST
DTSTART:20200329T010000
END:DAYLIGHT
BEGIN:STANDARD
TZOFFSETFROM:+0200
TZOFFSETTO:+0100
TZNAME:CET
DTSTART:20201025T010000
END:STANDARD
BEGIN:DAYLIGHT
TZOFFSETFROM:+0100
TZOFFSETTO:+0200
TZNAME:CEST
DTSTART:20210328T010000
END:DAYLIGHT
BEGIN:STANDARD
TZOFFSETFROM:+0200
TZOFFSETTO:+0100
TZNAME:CET
DTSTART:20211031T010000
END:STANDARD
BEGIN:DAYLIGHT
TZOFFSETFROM:+0100
TZOFFSETTO:+0200
TZNAME:CEST
DTSTART:20220327T010000
END:DAYLIGHT
BEGIN:STANDARD
TZOFFSETFROM:+0200
TZOFFSETTO:+0100
TZNAME:CET
DTSTART:20221030T010000
END:STANDARD
BEGIN:DAYLIGHT
TZOFFSETFROM:+0100
TZOFFSETTO:+0200
TZNAME:CEST
DTSTART:20230326T010000
END:DAYLIGHT
BEGIN:STANDARD
TZOFFSETFROM:+0200
TZOFFSETTO:+0100
TZNAME:CET
DTSTART:20231029T010000
END:STANDARD
END:VTIMEZONE
BEGIN:VEVENT
DTSTART;TZID=Europe/Rome:20200806T203000
DTEND;TZID=Europe/Rome:20200806T233000
DTSTAMP:20260421T224503
CREATED:20200716T065439Z
LAST-MODIFIED:20200716T065439Z
UID:1384-1596745800-1596756600@crocebiancaalbenga.it
SUMMARY:Cena in Bianco per la Bianca
DESCRIPTION:Giovedì 6 agosto 2020 ore 20.30 nel Giardino del Seminario Vescovile (g.c.) Via G. Galilei ad Albenga si terrà una cena di beneficenza i cui proventi saranno destinati alla P.A. Croce Bianca Albenga. Il tutto in collaborazione con l’associazione “Vecchia Albenga” e il Comune di Albenga. \nE’ gradita la partecipazione in bianco\, e saranno rispettate le norme in essere anticovid.
URL:https://crocebiancaalbenga.it/event/cena-in-bianco-per-la-bianca-2/
LOCATION:Seminario Vescovile\, Via Galileo Galilei 36\, Albenga\, Savona\, 17031\, Italia
END:VEVENT
BEGIN:VEVENT
DTSTART;TZID=Europe/Rome:20200809T163000
DTEND;TZID=Europe/Rome:20200809T210000
DTSTAMP:20260421T224503
CREATED:20200731T102301Z
LAST-MODIFIED:20200731T103848Z
UID:1395-1596990600-1597006800@crocebiancaalbenga.it
SUMMARY:Inaugurazione Nuovi Mezzi
DESCRIPTION:Domenica 9 agosto dalle ore 16.30 vi aspettiamo in Piazza Petrarca
URL:https://crocebiancaalbenga.it/event/inaugurazione-nuovi-mezzi/
LOCATION:P. A. Croce Bianca Albenga OdV\, Pzza Petrarca 17\, Albenga\, --\, 17031\, Italia
ORGANIZER;CN="Croce Bianca Albenga OdV":MAILTO:crocebiancaalbenga@gmail.com
END:VEVENT
BEGIN:VEVENT
DTSTART;TZID=Europe/Rome:20200926T210000
DTEND;TZID=Europe/Rome:20200926T233000
DTSTAMP:20260421T224503
CREATED:20200917T163506Z
LAST-MODIFIED:20200917T163506Z
UID:1403-1601154000-1601163000@crocebiancaalbenga.it
SUMMARY:Commedia Dialettale
DESCRIPTION:L’Associazione Arma Aeronautica sez. di Albenga con il patrocinio del Comune di Albenga e in collaborazione con il 108° Club Frecce Tricolori “Cap. Pil. Valentino Iansa” organizza\, con La Compagnia teatrale “I Gobbi” di Arquata Scrivia\, lo spettacolo teatrale “Quello Buonanima!”sabato 26 Settembre 2020 ore 21.00 presso il Teatro Ambra al Mare. \n 
URL:https://crocebiancaalbenga.it/event/commedia-dialettale/
LOCATION:Teatro Ambra al Mare\, Lungomare A. Doria - Seminario Vescovile\, Albenga\, Savona\, 17031\, Italia
END:VEVENT
BEGIN:VEVENT
DTSTART;TZID=Europe/Rome:20210313T153000
DTEND;TZID=Europe/Rome:20210313T190000
DTSTAMP:20260421T224503
CREATED:20210307T111653Z
LAST-MODIFIED:20210307T111653Z
UID:1455-1615649400-1615662000@crocebiancaalbenga.it
SUMMARY:Inaugurazione Nuovi Mezzi
DESCRIPTION:Sabato 13 marzo 2021 ore 15.30 \npresso la sede dell’Associazione \n \nLa cerimonia seguirà il seguente programma: \nSaluto del Presidente della P.A. Croce Bianca Albenga e delle Autorità intervenute \nInaugurazione dei nuovi mezzi con la benedizione impartita da S.E. Mons. Vescovo Guglielmo Borghetti: \n\nFord Custom\, ambulanza di soccorso\, acquistata grazie al contributo della Famiglia Galvagno e della Fondazione A. De Mari;\n\n  \n\nFord Fiesta\, grazie alle associazioni Vecchia Albenga e Tra le Torri;\n\n  \n\nVolkswagen Golf\, grazie al signor Salvatore;\n\n  \n\nFiat Doblò\, grazie ai nostri Militi;\n\n  \n\nFord Focus.
URL:https://crocebiancaalbenga.it/event/inaugurazione-nuovi-mezzi-2/
LOCATION:P. A. Croce Bianca Albenga OdV\, Pzza Petrarca 17\, Albenga\, --\, 17031\, Italia
ORGANIZER;CN="Croce Bianca Albenga OdV":MAILTO:crocebiancaalbenga@gmail.com
END:VEVENT
BEGIN:VEVENT
DTSTART;TZID=Europe/Rome:20210803T203000
DTEND;TZID=Europe/Rome:20210803T233000
DTSTAMP:20260421T224503
CREATED:20210720T063854Z
LAST-MODIFIED:20210720T063854Z
UID:1523-1628022600-1628033400@crocebiancaalbenga.it
SUMMARY:Cena in Bianco per la Bianca
DESCRIPTION:Martedì 3 agosto 2021 ore 20.30 nel Giardino del Seminario Vescovile (g.c.) Via G. Galilei ad Albenga si terrà una cena di beneficenza i cui proventi saranno destinati alla P.A. Croce Bianca Albenga. Il tutto in collaborazione con l’associazione “Vecchia Albenga” e il Comune di Albenga. \nE’ gradita la partecipazione in bianco\, e saranno rispettate le norme in essere anticovid.
URL:https://crocebiancaalbenga.it/event/cena-in-bianco-per-la-bianca-3/
LOCATION:Seminario Vescovile\, Via Galileo Galilei 36\, Albenga\, Savona\, 17031\, Italia
ORGANIZER;CN="Croce Bianca Albenga OdV":MAILTO:crocebiancaalbenga@gmail.com
END:VEVENT
BEGIN:VEVENT
DTSTART;TZID=Europe/Rome:20220630T203000
DTEND;TZID=Europe/Rome:20220630T233000
DTSTAMP:20260421T224503
CREATED:20220630T120047Z
LAST-MODIFIED:20230706T150242Z
UID:1594-1656621000-1656631800@crocebiancaalbenga.it
SUMMARY:Cena in Bianco per la Bianca
DESCRIPTION:Giovedì 14 luglio 2022 ore 20.30 in piazza San Michele ad Albenga si terrà una cena di beneficenza i cui proventi saranno destinati alla P.A. Croce Bianca Albenga. Il tutto in collaborazione con l’associazione “Vecchia Albenga” e il Comune di Albenga.
URL:https://crocebiancaalbenga.it/event/cena-in-bianco-per-la-bianca-4/
LOCATION:P. A. Croce Bianca Albenga OdV\, Pzza Petrarca 17\, Albenga\, --\, 17031\, Italia
END:VEVENT
BEGIN:VEVENT
DTSTART;TZID=Europe/Rome:20221203T210000
DTEND;TZID=Europe/Rome:20221203T233000
DTSTAMP:20260421T224503
CREATED:20221125T202108Z
LAST-MODIFIED:20221125T202108Z
UID:1622-1670101200-1670110200@crocebiancaalbenga.it
SUMMARY:110° Anniversario di Fondazione Croce Bianca Albenga OdV - Concerto Accademia Musico Vocale Ingaunia Egidio Marcelli
DESCRIPTION:Sabato 3 dicembre dalle ore 21.00 presso il Teatro Ambra\, concerto dell’Accademia Musico Vocale Ingaunia Egidio Marcelli\, organizzato dal Comune di Albenga in favore della Croce Bianca di Albenga OdV
URL:https://crocebiancaalbenga.it/event/110-anniversario-di-fondazione-croce-bianca-albenga-odv-concerto-accademia-musico-vocale-ingaunia-egidio-marcelli/
LOCATION:Cinema Teatro Ambra\, Via dell'Archivolto del Teatro 8\, Albenga\, Savona\, 17031\, Italia
END:VEVENT
BEGIN:VEVENT
DTSTART;VALUE=DATE:20221204
DTEND;VALUE=DATE:20221205
DTSTAMP:20260421T224503
CREATED:20221125T202456Z
LAST-MODIFIED:20221125T203317Z
UID:1625-1670112000-1670198399@crocebiancaalbenga.it
SUMMARY:110° Anniversario di Fondazione Croce Bianca Albenga
DESCRIPTION:
URL:https://crocebiancaalbenga.it/event/110-anniversario-di-fondazione-croce-bianca-albenga/
LOCATION:--
CATEGORIES:Evento
END:VEVENT
BEGIN:VEVENT
DTSTART;TZID=Europe/Rome:20230713T203000
DTEND;TZID=Europe/Rome:20230713T233000
DTSTAMP:20260421T224503
CREATED:20230706T150833Z
LAST-MODIFIED:20230706T150833Z
UID:1692-1689280200-1689291000@crocebiancaalbenga.it
SUMMARY:Cena in Bianco per la Bianca
DESCRIPTION:Giovedì 13 luglio 2023 ore 20.30 in piazza Petrarca (Croce Bianca) ad Albenga si terrà una cena di beneficenza i cui proventi saranno destinati alla P.A. Croce Bianca Albenga. Il tutto in collaborazione con l’associazione “Vecchia Albenga” e il Comune di Albenga. \nE’ gradita la partecipazione in bianco.
URL:https://crocebiancaalbenga.it/event/cena-in-bianco-per-la-bianca-5/
LOCATION:P. A. Croce Bianca Albenga OdV\, Pzza Petrarca 17\, Albenga\, --\, 17031\, Italia
END:VEVENT
END:VCALENDAR