BEGIN:VCALENDAR
VERSION:2.0
PRODID:-//P.A. Croce Bianca Albenga - ECPv6.13.2.1//NONSGML v1.0//EN
CALSCALE:GREGORIAN
METHOD:PUBLISH
X-WR-CALNAME:P.A. Croce Bianca Albenga
X-ORIGINAL-URL:https://crocebiancaalbenga.it
X-WR-CALDESC:Eventi per P.A. Croce Bianca Albenga
REFRESH-INTERVAL;VALUE=DURATION:PT1H
X-Robots-Tag:noindex
X-PUBLISHED-TTL:PT1H
BEGIN:VTIMEZONE
TZID:Europe/Rome
BEGIN:DAYLIGHT
TZOFFSETFROM:+0100
TZOFFSETTO:+0200
TZNAME:CEST
DTSTART:20180325T010000
END:DAYLIGHT
BEGIN:STANDARD
TZOFFSETFROM:+0200
TZOFFSETTO:+0100
TZNAME:CET
DTSTART:20181028T010000
END:STANDARD
END:VTIMEZONE
BEGIN:VEVENT
DTSTART;TZID=Europe/Rome:20180712T200000
DTEND;TZID=Europe/Rome:20180712T233000
DTSTAMP:20260422T142618
CREATED:20180705T130727Z
LAST-MODIFIED:20180705T131719Z
UID:1147-1531425600-1531438200@crocebiancaalbenga.it
SUMMARY:Cena in bianco per la Bianca e la Vecchia
DESCRIPTION:Giovedì 12 luglio dalle ore 20.00 in pizza San Michele – Albenga si terrà una cena di beneficenza i cui proventi saranno destinati alla P.A. Croce Bianca Albenga e all’associazione Vecchia Albenga. \n  \n \n 
URL:https://crocebiancaalbenga.it/event/cena-in-bianco-per-la-bianca-e-la-vecchia/
LOCATION:Piazza San Michele
CATEGORIES:Evento
END:VEVENT
END:VCALENDAR