BEGIN:VCALENDAR
VERSION:2.0
PRODID:-//P.A. Croce Bianca Albenga - ECPv6.13.2.1//NONSGML v1.0//EN
CALSCALE:GREGORIAN
METHOD:PUBLISH
X-ORIGINAL-URL:https://crocebiancaalbenga.it
X-WR-CALDESC:Eventi per P.A. Croce Bianca Albenga
REFRESH-INTERVAL;VALUE=DURATION:PT1H
X-Robots-Tag:noindex
X-PUBLISHED-TTL:PT1H
BEGIN:VTIMEZONE
TZID:Europe/Rome
BEGIN:DAYLIGHT
TZOFFSETFROM:+0100
TZOFFSETTO:+0200
TZNAME:CEST
DTSTART:20180325T010000
END:DAYLIGHT
BEGIN:STANDARD
TZOFFSETFROM:+0200
TZOFFSETTO:+0100
TZNAME:CET
DTSTART:20181028T010000
END:STANDARD
END:VTIMEZONE
BEGIN:VEVENT
DTSTART;TZID=Europe/Rome:20181021T140000
DTEND;TZID=Europe/Rome:20181021T180000
DTSTAMP:20260422T102651
CREATED:20181006T131852Z
LAST-MODIFIED:20181006T132036Z
UID:1211-1540130400-1540144800@crocebiancaalbenga.it
SUMMARY:15° di Fondazione P.A. Croce Bianca Albenga sezione Val Pennavaire
DESCRIPTION:CASTELBIANCO\, DOMENICA 21 OTTOBRE 2018 \nFESTEGGIAMENTI 15° DI FONDAZIONE VAL PENNAVAIRE E PREMIAZIONE MILITI \n– Ore 14.00 Ricevimento Consorelle \n– Ore 15.00 Saluti del Presidente dell’Associazione\, dei Responsabili della Sezione e delle Autorità intervenute \n– Premiazione dei Militi \n– Riconoscimento Consorelle intervenute \n– Apericena per tutti
URL:https://crocebiancaalbenga.it/event/1211/
LOCATION:P.A. Croce Bianca sez. Val Pennavaire Gruppo Castelbianco\, Via Veravo\, Castelbiaco\, 17031\, Italia
END:VEVENT
END:VCALENDAR