BEGIN:VCALENDAR
VERSION:2.0
PRODID:-//P.A. Croce Bianca Albenga - ECPv6.13.2.1//NONSGML v1.0//EN
CALSCALE:GREGORIAN
METHOD:PUBLISH
X-ORIGINAL-URL:https://crocebiancaalbenga.it
X-WR-CALDESC:Eventi per P.A. Croce Bianca Albenga
REFRESH-INTERVAL;VALUE=DURATION:PT1H
X-Robots-Tag:noindex
X-PUBLISHED-TTL:PT1H
BEGIN:VTIMEZONE
TZID:Europe/Rome
BEGIN:DAYLIGHT
TZOFFSETFROM:+0100
TZOFFSETTO:+0200
TZNAME:CEST
DTSTART:20180325T010000
END:DAYLIGHT
BEGIN:STANDARD
TZOFFSETFROM:+0200
TZOFFSETTO:+0100
TZNAME:CET
DTSTART:20181028T010000
END:STANDARD
END:VTIMEZONE
BEGIN:VEVENT
DTSTART;TZID=Europe/Rome:20181202T090000
DTEND;TZID=Europe/Rome:20181202T193000
DTSTAMP:20260422T080246
CREATED:20181129T175722Z
LAST-MODIFIED:20181129T175722Z
UID:1225-1543741200-1543779000@crocebiancaalbenga.it
SUMMARY:Colletta del Giocattolo
DESCRIPTION:Location: Visiona su Google Maps \nOrari: 9.00-12.30 e 15.30-19.30 \nDomenica 2 Dicembre 2018 i Volontari della P.A. Croce Bianca di Albenga saranno presenti\, presso il negozio di Toysland di Località Torre Pernice Polo 90\, in occasione della COLLETTA DEL GIOCATTOLO. I giocattoli donati dai clienti del negozio\, verranno destinati in beneficenza. Ringraziamo anticipatamente tutti coloro che vorranno acquistare anche un piccolo pensiero per i bambini più bisognosi.
URL:https://crocebiancaalbenga.it/event/colletta-del-giocattolo-2/
LOCATION:Toysland Albenga\, Località Torre Pernice\, Zona Poo 90\, Albenga\, --\, 17031\, Italia
END:VEVENT
END:VCALENDAR