BEGIN:VCALENDAR
VERSION:2.0
PRODID:-//P.A. Croce Bianca Albenga - ECPv6.13.2.1//NONSGML v1.0//EN
CALSCALE:GREGORIAN
METHOD:PUBLISH
X-WR-CALNAME:P.A. Croce Bianca Albenga
X-ORIGINAL-URL:https://crocebiancaalbenga.it
X-WR-CALDESC:Eventi per P.A. Croce Bianca Albenga
REFRESH-INTERVAL;VALUE=DURATION:PT1H
X-Robots-Tag:noindex
X-PUBLISHED-TTL:PT1H
BEGIN:VTIMEZONE
TZID:Europe/Rome
BEGIN:DAYLIGHT
TZOFFSETFROM:+0100
TZOFFSETTO:+0200
TZNAME:CEST
DTSTART:20190331T010000
END:DAYLIGHT
BEGIN:STANDARD
TZOFFSETFROM:+0200
TZOFFSETTO:+0100
TZNAME:CET
DTSTART:20191027T010000
END:STANDARD
END:VTIMEZONE
BEGIN:VEVENT
DTSTART;TZID=Europe/Rome:20190512T080000
DTEND;TZID=Europe/Rome:20190512T170000
DTSTAMP:20260422T013625
CREATED:20190509T212402Z
LAST-MODIFIED:20190509T212545Z
UID:1283-1557648000-1557680400@crocebiancaalbenga.it
SUMMARY:12 maggio: l'Azalea per la Ricerca
DESCRIPTION:Domenica 12 la Croce Bianca distribuirà le Azalee per la Ricerca\, raccogliendo fondi a favore dell’AIRC.\nColoro che verseranno un’offerta di almeno 15\,00 € riceveranno una pianta in omaggio.
URL:https://crocebiancaalbenga.it/event/1283/
LOCATION:Largo Doria\, Largo Doria\, Albenga\, --\, 17031\, Italy
END:VEVENT
END:VCALENDAR