BEGIN:VCALENDAR
VERSION:2.0
PRODID:-//P.A. Croce Bianca Albenga - ECPv6.13.2.1//NONSGML v1.0//EN
CALSCALE:GREGORIAN
METHOD:PUBLISH
X-ORIGINAL-URL:https://crocebiancaalbenga.it
X-WR-CALDESC:Eventi per P.A. Croce Bianca Albenga
REFRESH-INTERVAL;VALUE=DURATION:PT1H
X-Robots-Tag:noindex
X-PUBLISHED-TTL:PT1H
BEGIN:VTIMEZONE
TZID:Europe/Rome
BEGIN:DAYLIGHT
TZOFFSETFROM:+0100
TZOFFSETTO:+0200
TZNAME:CEST
DTSTART:20190331T010000
END:DAYLIGHT
BEGIN:STANDARD
TZOFFSETFROM:+0200
TZOFFSETTO:+0100
TZNAME:CET
DTSTART:20191027T010000
END:STANDARD
END:VTIMEZONE
BEGIN:VEVENT
DTSTART;TZID=Europe/Rome:20191110T120000
DTEND;TZID=Europe/Rome:20191110T200000
DTSTAMP:20260421T184621
CREATED:20191105T110951Z
LAST-MODIFIED:20191105T111020Z
UID:1339-1573387200-1573416000@crocebiancaalbenga.it
SUMMARY:Festa di San Martino
DESCRIPTION:Domenica 10 novembre dalle 11.00 alle 20.00 in piazza IV novembre\, degustazione di prodotti stagione (caldarroste\, polenta\, pan fritto e altro). \nIl ricavato della manifestazione servirà per l’acquisto di materiale sanitario della P.A. Croce Bianca Albenga.
URL:https://crocebiancaalbenga.it/event/1339/
LOCATION:Piazza IV Novembre\, Piazza IV novembre\, Albenga\, --\, 17031\, Italia
END:VEVENT
END:VCALENDAR